BEGIN:VCALENDAR
VERSION:2.0
PRODID:spatie/icalendar-generator
DESCRIPTION:Events from Dawson Creek Golf &amp;amp\; Country Club
X-WR-CALDESC:Events from Dawson Creek Golf &amp;amp\; Country Club
REFRESH-INTERVAL;VALUE=DURATION:PT1440M
X-PUBLISHED-TTL:PT1440M
BEGIN:VTIMEZONE
TZID:America/Dawson_Creek
BEGIN:STANDARD
DTSTART:20241008T090000Z
TZOFFSETFROM:-0700
TZOFFSETTO:-0700
END:STANDARD
END:VTIMEZONE
BEGIN:VTIMEZONE
TZID:UTC
BEGIN:STANDARD
DTSTART:20250723T153457Z
TZOFFSETFROM:+0000
TZOFFSETTO:+0000
END:STANDARD
END:VTIMEZONE
BEGIN:VEVENT
UID:335-132
DTSTAMP:20260419T153457Z
SUMMARY:Weaver Auctions Men's Open
LOCATION:Dawson Creek Golf Course 2121 Alaska hiway  Dawson Creek BC
ORGANIZER;CN=Mayson Grunewald:MAILTO:golfdawsoncreek@hotmail.com
DTSTART;TZID=America/Dawson_Creek:20250705T090000
DTEND;TZID=America/Dawson_Creek:20250706T100000
X-ALT-DESC;FMTTYPE=TEXT/HTML:
CATEGORIES:General
URL;VALUE=URI:https://dawsoncreekgolfclub.ca/event/weaver-auctions-mens-ope
 n/?mc_id=335
END:VEVENT
END:VCALENDAR