BEGIN:VCALENDAR
VERSION:2.0
PRODID:spatie/icalendar-generator
DESCRIPTION:Events from Dawson Creek Golf &amp;amp\; Country Club
X-WR-CALDESC:Events from Dawson Creek Golf &amp;amp\; Country Club
REFRESH-INTERVAL;VALUE=DURATION:PT1440M
X-PUBLISHED-TTL:PT1440M
BEGIN:VTIMEZONE
TZID:America/Dawson_Creek
BEGIN:STANDARD
DTSTART:20250814T190000Z
TZOFFSETFROM:-0700
TZOFFSETTO:-0700
END:STANDARD
END:VTIMEZONE
BEGIN:VTIMEZONE
TZID:UTC
BEGIN:STANDARD
DTSTART:20250729T144545Z
TZOFFSETFROM:+0000
TZOFFSETTO:+0000
END:STANDARD
END:VTIMEZONE
BEGIN:VEVENT
UID:363-109
DTSTAMP:20260425T144545Z
SUMMARY:AGM
LOCATION:
ORGANIZER;CN=Merina Shearing:MAILTO:merinashearing@gmail.com
DTSTART;TZID=America/Dawson_Creek:20260511T190000
DTEND;TZID=America/Dawson_Creek:20260511T210000
X-ALT-DESC;FMTTYPE=TEXT/HTML:<p>Registration starts @ 6:00</p>\n
CATEGORIES:General
URL;VALUE=URI:https://dawsoncreekgolfclub.ca/event/agm/?mc_id=363
END:VEVENT
END:VCALENDAR