BEGIN:VCALENDAR
VERSION:2.0
PRODID:spatie/icalendar-generator
DESCRIPTION:Events from Dawson Creek Golf &amp;amp\; Country Club
X-WR-CALDESC:Events from Dawson Creek Golf &amp;amp\; Country Club
REFRESH-INTERVAL;VALUE=DURATION:PT1440M
X-PUBLISHED-TTL:PT1440M
BEGIN:VTIMEZONE
TZID:America/Dawson_Creek
BEGIN:STANDARD
DTSTART:20240913T100000Z
TZOFFSETFROM:-0700
TZOFFSETTO:-0700
END:STANDARD
END:VTIMEZONE
BEGIN:VTIMEZONE
TZID:UTC
BEGIN:STANDARD
DTSTART:20250725T132838Z
TZOFFSETFROM:+0000
TZOFFSETTO:+0000
END:STANDARD
END:VTIMEZONE
BEGIN:VEVENT
UID:351-143
DTSTAMP:20260421T132838Z
SUMMARY:DC Golf Team Starts PCJT
LOCATION:
ORGANIZER;CN=Mayson Grunewald:MAILTO:golfdawsoncreek@hotmail.com
DTSTART;TZID=America/Dawson_Creek:20250610T100000
DTEND;TZID=America/Dawson_Creek:20250610T110000
X-ALT-DESC;FMTTYPE=TEXT/HTML:
CATEGORIES:General
URL;VALUE=URI:https://dawsoncreekgolfclub.ca/event/dc-golf-team-starts-pcjt
 /?mc_id=351
END:VEVENT
END:VCALENDAR