BEGIN:VCALENDAR
VERSION:2.0
PRODID:spatie/icalendar-generator
DESCRIPTION:Events from Dawson Creek Golf &amp;amp\; Country Club
X-WR-CALDESC:Events from Dawson Creek Golf &amp;amp\; Country Club
REFRESH-INTERVAL;VALUE=DURATION:PT1440M
X-PUBLISHED-TTL:PT1440M
BEGIN:VTIMEZONE
TZID:America/Dawson_Creek
BEGIN:STANDARD
DTSTART:20240816T190000Z
TZOFFSETFROM:-0700
TZOFFSETTO:-0700
END:STANDARD
END:VTIMEZONE
BEGIN:VTIMEZONE
TZID:UTC
BEGIN:STANDARD
DTSTART:20250723T183714Z
TZOFFSETFROM:+0000
TZOFFSETTO:+0000
END:STANDARD
END:VTIMEZONE
BEGIN:VEVENT
UID:339-109
DTSTAMP:20260419T183714Z
SUMMARY:AGM
LOCATION:
ORGANIZER;CN=Merina Shearing:MAILTO:merinashearing@gmail.com
DTSTART;TZID=America/Dawson_Creek:20250513T190000
DTEND;TZID=America/Dawson_Creek:20250513T210000
X-ALT-DESC;FMTTYPE=TEXT/HTML:
CATEGORIES:General
URL;VALUE=URI:https://dawsoncreekgolfclub.ca/event/agm/?mc_id=339
END:VEVENT
END:VCALENDAR